BEGIN:VCALENDAR
VERSION:2.0
PRODID:-//Library Market//iCal Export//EN
BEGIN:VEVENT
SUMMARY:Science Discovery at Silver Lake Park: Bubbles
UID:37359
DTSTAMP:20260426T021100Z
DTSTART:20260731T143000Z
DTEND:20260731T153000Z
LOCATION:Silver Lake Park (Near Three Links Shelter), 840 7th Street NE, R
 ochester, MN 55906, United States
ROOM: Science Discovery at Silver Lake Park: Bubbles
DESCRIPTION:Silver Lake Park (Near Three Links Shelter), 840 7th Street NE
 , 55906Join us for an outdoor celebration of bubbles with stories, songs, 
 and activities at Silver Lake Park near the Three Links Shelter (840 7th S
 treet NE, 55906). Outdoor seating - bring your own blanket. This event wi
 ll be canceled in inclement weather. 
URL:https://rochesterpubliclibrary.librarymarket.com/index.php/bubbles-par
 k2
END:VEVENT
END:VCALENDAR
